BEGIN:VCALENDAR
VERSION:1.0
PRODID:-//Octet Cloud//vPim 13.11.11//EN
CALSCALE:Gregorian
BEGIN:VEVENT
DTSTART:20190605T150000
DTEND:20190605T173000
SUMMARY:Open House #3
DESCRIPTION:Join us on Wednesday\, June 5th at the Downtown Medford Public 
 Library between 3-5:30 p.m. Discuss the draft [Transit Master Plan](http://
 www.rvtd2040transitplan.com/system/images/2920/original/RVTD_2040_Transit_M
 aster_Plan_REVISED_DRAFT.pdf). You have the opportunity to help the RVTD pr
 oject team plan our community's transit service! \n\nCan't make it in per
 son?  \nParticipate online from June 3rd through 17th - [Virtual Open Hous
 e](http://workshops.kaiproject.com/workshops/46-rvtd-2040-transit-master-pl
 an-virtual-open-house-3) <br>\n\n\n($1)
URL:https://rvtd2040transitplan.com/websites/49/meetings/358
CREATED:20260419T201739
LAST-MODIFIED:20260419T201739
SEQUENCE:0
CLASS:PRIVATE
END:VEVENT
END:VCALENDAR
