BEGIN:VCALENDAR
VERSION:2.0
PRODID:-//Octet Cloud//vPim 13.11.11//EN
CALSCALE:Gregorian
BEGIN:VEVENT
DTSTART:20180402T133000
DTEND:20180402T150000
SUMMARY:Citizen Advisory Committee Meeting #1
DESCRIPTION:This is the initial meeting of the Citizen Advisory Committee (
 CAC). The CAC will receive an overview of the project objectives and timeli
 ne and project background documents. The CAC will discuss their interests a
 nd desired outcomes for the project with the project team. Time for public 
 comment will be provided at the end of the meeting. \n\nThe project mater
 ials including agenda and background memorandums will be posted in the [Mee
 ting Materials](http://kaiproject.com/websites/49/pages/268) folder approxi
 mately one week in advance.
URL:https://rvtd2040transitplan.com/websites/49/meetings/273
CREATED:20260419T201552
LAST-MODIFIED:20260419T201552
SEQUENCE:0
CLASS:PRIVATE
END:VEVENT
END:VCALENDAR
